BEGIN:VCALENDAR
VERSION:2.0
PRODID:-//Rotary Club of Lebanon, NH - ECPv6.15.17.1//NONSGML v1.0//EN
CALSCALE:GREGORIAN
METHOD:PUBLISH
X-ORIGINAL-URL:https://www.rotarylebanonnh.org
X-WR-CALDESC:Events for Rotary Club of Lebanon, NH
REFRESH-INTERVAL;VALUE=DURATION:PT1H
X-Robots-Tag:noindex
X-PUBLISHED-TTL:PT1H
BEGIN:VTIMEZONE
TZID:America/New_York
BEGIN:DAYLIGHT
TZOFFSETFROM:-0500
TZOFFSETTO:-0400
TZNAME:EDT
DTSTART:20220313T070000
END:DAYLIGHT
BEGIN:STANDARD
TZOFFSETFROM:-0400
TZOFFSETTO:-0500
TZNAME:EST
DTSTART:20221106T060000
END:STANDARD
BEGIN:DAYLIGHT
TZOFFSETFROM:-0500
TZOFFSETTO:-0400
TZNAME:EDT
DTSTART:20230312T070000
END:DAYLIGHT
BEGIN:STANDARD
TZOFFSETFROM:-0400
TZOFFSETTO:-0500
TZNAME:EST
DTSTART:20231105T060000
END:STANDARD
BEGIN:DAYLIGHT
TZOFFSETFROM:-0500
TZOFFSETTO:-0400
TZNAME:EDT
DTSTART:20240310T070000
END:DAYLIGHT
BEGIN:STANDARD
TZOFFSETFROM:-0400
TZOFFSETTO:-0500
TZNAME:EST
DTSTART:20241103T060000
END:STANDARD
END:VTIMEZONE
BEGIN:VEVENT
DTSTART;TZID=America/New_York:20230502T120000
DTEND;TZID=America/New_York:20230502T130000
DTSTAMP:20260423T185836
CREATED:20220123T012800Z
LAST-MODIFIED:20230502T163224Z
UID:13715-1683028800-1683032400@www.rotarylebanonnh.org
SUMMARY:Administration Committee Meeting
DESCRIPTION:
URL:https://www.rotarylebanonnh.org/event/administration-committee-meeting-16/
END:VEVENT
BEGIN:VEVENT
DTSTART;TZID=America/New_York:20230504T120000
DTEND;TZID=America/New_York:20230504T131500
DTSTAMP:20260423T185836
CREATED:20220123T012800Z
LAST-MODIFIED:20230504T163256Z
UID:13716-1683201600-1683206100@www.rotarylebanonnh.org
SUMMARY:Rotary Club of Lebanon Club Meeting
DESCRIPTION:
URL:https://www.rotarylebanonnh.org/event/rotary-club-of-lebanon-club-meeting-67/
LOCATION:On Zoom
END:VEVENT
BEGIN:VEVENT
DTSTART;TZID=America/New_York:20230509T143000
DTEND;TZID=America/New_York:20230509T180000
DTSTAMP:20260423T185836
CREATED:20210722T221100Z
LAST-MODIFIED:20211114T010131Z
UID:5854-1683642600-1683655200@www.rotarylebanonnh.org
SUMMARY:Listen Community Dinners
DESCRIPTION:
URL:https://www.rotarylebanonnh.org/event/listen-community-dinners-22/
END:VEVENT
BEGIN:VEVENT
DTSTART;TZID=America/New_York:20230510T170000
DTEND;TZID=America/New_York:20230510T181500
DTSTAMP:20260423T185836
CREATED:20220123T012800Z
LAST-MODIFIED:20230510T214548Z
UID:13717-1683738000-1683742500@www.rotarylebanonnh.org
SUMMARY:Lebanon Rotary Board Meeting
DESCRIPTION:
URL:https://www.rotarylebanonnh.org/event/lebanon-rotary-board-meeting-16/
END:VEVENT
BEGIN:VEVENT
DTSTART;TZID=America/New_York:20230511T120000
DTEND;TZID=America/New_York:20230511T131500
DTSTAMP:20260423T185836
CREATED:20220123T012800Z
LAST-MODIFIED:20230511T164547Z
UID:13718-1683806400-1683810900@www.rotarylebanonnh.org
SUMMARY:Rotary Club of Lebanon Club Meeting
DESCRIPTION:
URL:https://www.rotarylebanonnh.org/event/rotary-club-of-lebanon-club-meeting-68/
LOCATION:On Zoom
END:VEVENT
BEGIN:VEVENT
DTSTART;TZID=America/New_York:20230511T122000
DTEND;TZID=America/New_York:20230511T130000
DTSTAMP:20260423T185836
CREATED:20230510T174600Z
LAST-MODIFIED:20230511T164547Z
UID:31517-1683807600-1683810000@www.rotarylebanonnh.org
SUMMARY:Lebanon Rotary Meeting for May 11\, 2023 at 12:20 PM
DESCRIPTION:Agenda sent via our ClubRunner Web Page.\n-~-~-~-~-~-~-~-~-~-~-~-~-~-~-~-~-~-~-~-~-~-~-\nJOIN WEBEX MEETING\nhttps://meet293.webex.com/meet293/j.php?MTID=mc8b146d5134b29fa0d63705b53a7d62c\nMeeting number (access code): 2630 250 3802\nMeeting password: n3PbSV87Rzs (63727887 from video systems)\nJOIN BY PHONE\nUse VoIP only\nJOIN FROM A VIDEO SYSTEM OR APPLICATION\nDial sip:26302503802@meet293.webex.com\nYou can also dial 173.243.2.68 and enter your meeting number.\nIf you are a host\, click here and login site to view host information:\nhttps://meet293.webex.com/webappng/sites/meet293/meeting/info/fe3a5cb12e6f4dd798183a63d1e2bbec\nCan’t join the meeting? Contact support here:\nhttps://meet293.webex.com/meet293/mc\nIMPORTANT NOTICE: Please note that this Webex service allows audio and other information sent during the session to be recorded\, which may be discoverable in a legal matter. You should inform all meeting attendees prior to recording if you intend to record the meeting.
URL:https://www.rotarylebanonnh.org/event/lebanon-rotary-meeting-for-may-11-2023-at-1220-pm/
LOCATION:https://meet293.webex.com/meet293/j.php?MTID=mc8b146d5134b29fa0d63705b53a7d62c
ORGANIZER;CN="Cisco Webex":MAILTO:messenger@webex.com
END:VEVENT
BEGIN:VEVENT
DTSTART;TZID=America/New_York:20230518T120000
DTEND;TZID=America/New_York:20230518T131500
DTSTAMP:20260423T185836
CREATED:20220123T012800Z
LAST-MODIFIED:20230518T170044Z
UID:13719-1684411200-1684415700@www.rotarylebanonnh.org
SUMMARY:Rotary Club of Lebanon Club Meeting
DESCRIPTION:
URL:https://www.rotarylebanonnh.org/event/rotary-club-of-lebanon-club-meeting-69/
LOCATION:On Zoom
END:VEVENT
BEGIN:VEVENT
DTSTART;TZID=America/New_York:20230518T122000
DTEND;TZID=America/New_York:20230518T130000
DTSTAMP:20260423T185836
CREATED:20230516T233109Z
LAST-MODIFIED:20230518T161623Z
UID:31780-1684412400-1684414800@www.rotarylebanonnh.org
SUMMARY:Lebanon Rotary Meeting for May 18\, 2023 at 12:20 PM
DESCRIPTION:Sent by ClubRunner email\n-~-~-~-~-~-~-~-~-~-~-~-~-~-~-~-~-~-~-~-~-~-~-\nJOIN WEBEX MEETING\nhttps://meet293.webex.com/meet293/j.php?MTID=m7784afac89e3b84ba1aa0effb6f84e3a\nMeeting number (access code): 2632 352 4199\nMeeting password: mMyPWsTh332 (66979784 from video systems)\nJOIN BY PHONE\nUse VoIP only\nJOIN FROM A VIDEO SYSTEM OR APPLICATION\nDial sip:26323524199@meet293.webex.com\nYou can also dial 173.243.2.68 and enter your meeting number.\nIf you are a host\, click here and login site to view host information:\nhttps://meet293.webex.com/webappng/sites/meet293/meeting/info/3d3974ad2a5645c092821e8bd81bde8d\nCan’t join the meeting? Contact support here:\nhttps://meet293.webex.com/meet293/mc\nIMPORTANT NOTICE: Please note that this Webex service allows audio and other information sent during the session to be recorded\, which may be discoverable in a legal matter. You should inform all meeting attendees prior to recording if you intend to record the meeting.
URL:https://www.rotarylebanonnh.org/event/lebanon-rotary-meeting-for-may-18-2023-at-1220-pm/
LOCATION:https://meet293.webex.com/meet293/j.php?MTID=m7784afac89e3b84ba1aa0effb6f84e3a
ORGANIZER;CN="Cisco Webex":MAILTO:messenger@webex.com
END:VEVENT
BEGIN:VEVENT
DTSTART;TZID=America/New_York:20230524T142500
DTEND;TZID=America/New_York:20230524T152500
DTSTAMP:20260423T185836
CREATED:20230524T184642Z
LAST-MODIFIED:20230524T184642Z
UID:32283-1684938300-1684941900@www.rotarylebanonnh.org
SUMMARY:test
DESCRIPTION:JOIN WEBEX MEETING\nhttps://marliynkbedell-110.my.webex.com/marliynkbedell-110.my/j.php?MTID=m5de9b106be7e14eba4c17d47298b9da6\nMeeting number (access code): 2633 017 9871\nMeeting password: EMpBwc42jh7 (36729242 from phones and video systems)\nTAP TO JOIN FROM A MOBILE DEVICE (ATTENDEES ONLY)\n+1-650-479-3208\,\,26330179871#36729242# tel:%2B1-650-479-3208\,\,*01*26330179871%2336729242%23*01* United States Toll\nSome mobile devices may ask attendees to enter a numeric password.\nJOIN BY PHONE\n+1-650-479-3208 United States Toll\nGlobal call-in numbers\nhttps://marliynkbedell-110.my.webex.com/marliynkbedell-110.my/globalcallin.php?MTID=m6853a504e5074b53de9434b1c28b1515\nJOIN FROM A VIDEO SYSTEM OR APPLICATION\nDial sip:26330179871@webex.com\nYou can also dial 173.243.2.68 and enter your meeting number.\nIf you are a host\, click here and login site to view host information:\nhttps://marliynkbedell-110.my.webex.com/webappng/sites/marliynkbedell-110.my/meeting/info/db15f908567a4b8f8c58918828f85b5c\nCan’t join the meeting? Contact support here:\nhttps://marliynkbedell-110.my.webex.com/marliynkbedell-110.my/mc\nIMPORTANT NOTICE: Please note that this Webex service allows audio and other information sent during the session to be recorded\, which may be discoverable in a legal matter. You should inform all meeting attendees prior to recording if you intend to record the meeting.
URL:https://www.rotarylebanonnh.org/event/test/
LOCATION:https://marliynkbedell-110.my.webex.com/marliynkbedell-110.my/j.php?MTID=m5de9b106be7e14eba4c17d47298b9da6
ORGANIZER;CN="Cisco Webex":MAILTO:messenger@webex.com
END:VEVENT
BEGIN:VEVENT
DTSTART;TZID=America/New_York:20230525T114500
DTEND;TZID=America/New_York:20230525T134500
DTSTAMP:20260423T185836
CREATED:20230524T130114Z
LAST-MODIFIED:20230525T173046Z
UID:32063-1685015100-1685022300@www.rotarylebanonnh.org
SUMMARY:Rotary Club of Lebanon Weekly Meeting
DESCRIPTION:Agenda coming via ClubRunner\n-~-~-~-~-~-~-~-~-~-~-~-~-~-~-~-~-~-~-~-~-~-~-\nJOIN WEBEX MEETING\nhttps://marliynkbedell-110.my.webex.com/marliynkbedell-110.my/j.php?MTID=medb363d5c8bb2402e7355ccd9ffb43b4\nMeeting number (access code): 2631 188 0416\nMeeting password: 852m8EKGpeP (85268354 from phones and video systems)\nTAP TO JOIN FROM A MOBILE DEVICE (ATTENDEES ONLY)\n+1-650-479-3208\,\,26311880416#85268354# tel:%2B1-650-479-3208\,\,*01*26311880416%2385268354%23*01* United States Toll\nSome mobile devices may ask attendees to enter a numeric password.\nJOIN BY PHONE\n+1-650-479-3208 United States Toll\nGlobal call-in numbers\nhttps://marliynkbedell-110.my.webex.com/marliynkbedell-110.my/globalcallin.php?MTID=me20b4a5d4bb2a3a991505520c77a3fd4\nJOIN FROM A VIDEO SYSTEM OR APPLICATION\nDial sip:26311880416@webex.com\nYou can also dial 173.243.2.68 and enter your meeting number.\nIf you are a host\, click here and login site to view host information:\nhttps://marliynkbedell-110.my.webex.com/webappng/sites/marliynkbedell-110.my/meeting/info/a97a969b820e4b1f9fbc1dfcbc811d8b\nCan’t join the meeting? Contact support here:\nhttps://marliynkbedell-110.my.webex.com/marliynkbedell-110.my/mc\nIMPORTANT NOTICE: Please note that this Webex service allows audio and other information sent during the session to be recorded\, which may be discoverable in a legal matter. You should inform all meeting attendees prior to recording if you intend to record the meeting.
URL:https://www.rotarylebanonnh.org/event/rotary-club-of-lebanon-weekly-meeting/
LOCATION:https://marliynkbedell-110.my.webex.com/marliynkbedell-110.my/j.php?MTID=medb363d5c8bb2402e7355ccd9ffb43b4
ORGANIZER;CN="Cisco Webex":MAILTO:messenger@webex.com
END:VEVENT
BEGIN:VEVENT
DTSTART;TZID=America/New_York:20230525T120000
DTEND;TZID=America/New_York:20230525T131500
DTSTAMP:20260423T185836
CREATED:20220123T012811Z
LAST-MODIFIED:20230525T164618Z
UID:13720-1685016000-1685020500@www.rotarylebanonnh.org
SUMMARY:Rotary Club of Lebanon Club Meeting
DESCRIPTION:
URL:https://www.rotarylebanonnh.org/event/rotary-club-of-lebanon-club-meeting-70/
LOCATION:On Zoom
END:VEVENT
END:VCALENDAR