BEGIN:VCALENDAR
VERSION:2.0
PRODID:-//Rotary Club of Lebanon, NH - ECPv6.15.17.1//NONSGML v1.0//EN
CALSCALE:GREGORIAN
METHOD:PUBLISH
X-ORIGINAL-URL:https://www.rotarylebanonnh.org
X-WR-CALDESC:Events for Rotary Club of Lebanon, NH
REFRESH-INTERVAL;VALUE=DURATION:PT1H
X-Robots-Tag:noindex
X-PUBLISHED-TTL:PT1H
BEGIN:VTIMEZONE
TZID:America/New_York
BEGIN:DAYLIGHT
TZOFFSETFROM:-0500
TZOFFSETTO:-0400
TZNAME:EDT
DTSTART:20220313T070000
END:DAYLIGHT
BEGIN:STANDARD
TZOFFSETFROM:-0400
TZOFFSETTO:-0500
TZNAME:EST
DTSTART:20221106T060000
END:STANDARD
BEGIN:DAYLIGHT
TZOFFSETFROM:-0500
TZOFFSETTO:-0400
TZNAME:EDT
DTSTART:20230312T070000
END:DAYLIGHT
BEGIN:STANDARD
TZOFFSETFROM:-0400
TZOFFSETTO:-0500
TZNAME:EST
DTSTART:20231105T060000
END:STANDARD
BEGIN:DAYLIGHT
TZOFFSETFROM:-0500
TZOFFSETTO:-0400
TZNAME:EDT
DTSTART:20240310T070000
END:DAYLIGHT
BEGIN:STANDARD
TZOFFSETFROM:-0400
TZOFFSETTO:-0500
TZNAME:EST
DTSTART:20241103T060000
END:STANDARD
END:VTIMEZONE
BEGIN:VEVENT
DTSTART;TZID=America/New_York:20230103T120000
DTEND;TZID=America/New_York:20230103T130000
DTSTAMP:20260424T035958
CREATED:20220123T012735Z
LAST-MODIFIED:20230103T174640Z
UID:13690-1672747200-1672750800@www.rotarylebanonnh.org
SUMMARY:Administration Committee Meeting
DESCRIPTION:
URL:https://www.rotarylebanonnh.org/event/administration-committee-meeting-12/
END:VEVENT
BEGIN:VEVENT
DTSTART;TZID=America/New_York:20230105T120000
DTEND;TZID=America/New_York:20230105T131500
DTSTAMP:20260424T035958
CREATED:20220123T012735Z
LAST-MODIFIED:20230105T180123Z
UID:13691-1672920000-1672924500@www.rotarylebanonnh.org
SUMMARY:Rotary Club of Lebanon Club Meeting
DESCRIPTION:
URL:https://www.rotarylebanonnh.org/event/rotary-club-of-lebanon-club-meeting-50/
LOCATION:On Zoom
END:VEVENT
BEGIN:VEVENT
DTSTART;TZID=America/New_York:20230110T143000
DTEND;TZID=America/New_York:20230110T180000
DTSTAMP:20260424T035958
CREATED:20210722T221100Z
LAST-MODIFIED:20211114T010131Z
UID:5850-1673361000-1673373600@www.rotarylebanonnh.org
SUMMARY:Listen Community Dinners
DESCRIPTION:
URL:https://www.rotarylebanonnh.org/event/listen-community-dinners-18/
END:VEVENT
BEGIN:VEVENT
DTSTART;TZID=America/New_York:20230111T170000
DTEND;TZID=America/New_York:20230111T181500
DTSTAMP:20260424T035958
CREATED:20220123T012735Z
LAST-MODIFIED:20230111T224658Z
UID:13692-1673456400-1673460900@www.rotarylebanonnh.org
SUMMARY:Lebanon Rotary Board Meeting
DESCRIPTION:
URL:https://www.rotarylebanonnh.org/event/lebanon-rotary-board-meeting-12/
END:VEVENT
BEGIN:VEVENT
DTSTART;TZID=America/New_York:20230112T120000
DTEND;TZID=America/New_York:20230112T131500
DTSTAMP:20260424T035958
CREATED:20220123T012735Z
LAST-MODIFIED:20230112T180213Z
UID:13693-1673524800-1673529300@www.rotarylebanonnh.org
SUMMARY:Rotary Club of Lebanon Club Meeting
DESCRIPTION:
URL:https://www.rotarylebanonnh.org/event/rotary-club-of-lebanon-club-meeting-51/
LOCATION:On Zoom
END:VEVENT
BEGIN:VEVENT
DTSTART;TZID=America/New_York:20230119T120000
DTEND;TZID=America/New_York:20230119T131500
DTSTAMP:20260424T035958
CREATED:20220123T012735Z
LAST-MODIFIED:20230119T180211Z
UID:13694-1674129600-1674134100@www.rotarylebanonnh.org
SUMMARY:Rotary Club of Lebanon Club Meeting
DESCRIPTION:
URL:https://www.rotarylebanonnh.org/event/rotary-club-of-lebanon-club-meeting-52/
LOCATION:On Zoom
END:VEVENT
BEGIN:VEVENT
DTSTART;TZID=America/New_York:20230126T120000
DTEND;TZID=America/New_York:20230126T131500
DTSTAMP:20260424T035958
CREATED:20220123T012735Z
LAST-MODIFIED:20230126T174650Z
UID:13695-1674734400-1674738900@www.rotarylebanonnh.org
SUMMARY:Rotary Club of Lebanon Club Meeting
DESCRIPTION:
URL:https://www.rotarylebanonnh.org/event/rotary-club-of-lebanon-club-meeting-53/
LOCATION:On Zoom
END:VEVENT
END:VCALENDAR