BEGIN:VCALENDAR
VERSION:2.0
PRODID:-//Rotary Club of Lebanon, NH - ECPv6.15.17.1//NONSGML v1.0//EN
CALSCALE:GREGORIAN
METHOD:PUBLISH
X-WR-CALNAME:Rotary Club of Lebanon, NH
X-ORIGINAL-URL:https://www.rotarylebanonnh.org
X-WR-CALDESC:Events for Rotary Club of Lebanon, NH
REFRESH-INTERVAL;VALUE=DURATION:PT1H
X-Robots-Tag:noindex
X-PUBLISHED-TTL:PT1H
BEGIN:VTIMEZONE
TZID:America/New_York
BEGIN:DAYLIGHT
TZOFFSETFROM:-0500
TZOFFSETTO:-0400
TZNAME:EDT
DTSTART:20210314T070000
END:DAYLIGHT
BEGIN:STANDARD
TZOFFSETFROM:-0400
TZOFFSETTO:-0500
TZNAME:EST
DTSTART:20211107T060000
END:STANDARD
BEGIN:DAYLIGHT
TZOFFSETFROM:-0500
TZOFFSETTO:-0400
TZNAME:EDT
DTSTART:20220313T070000
END:DAYLIGHT
BEGIN:STANDARD
TZOFFSETFROM:-0400
TZOFFSETTO:-0500
TZNAME:EST
DTSTART:20221106T060000
END:STANDARD
BEGIN:DAYLIGHT
TZOFFSETFROM:-0500
TZOFFSETTO:-0400
TZNAME:EDT
DTSTART:20230312T070000
END:DAYLIGHT
BEGIN:STANDARD
TZOFFSETFROM:-0400
TZOFFSETTO:-0500
TZNAME:EST
DTSTART:20231105T060000
END:STANDARD
END:VTIMEZONE
BEGIN:VEVENT
DTSTART;TZID=America/New_York:20221201T120000
DTEND;TZID=America/New_York:20221201T131500
DTSTAMP:20260424T052115
CREATED:20220123T012723Z
LAST-MODIFIED:20221201T174619Z
UID:13683-1669896000-1669900500@www.rotarylebanonnh.org
SUMMARY:Rotary Club of Lebanon Club Meeting
DESCRIPTION:
URL:https://www.rotarylebanonnh.org/event/rotary-club-of-lebanon-club-meeting-45/
LOCATION:On Zoom
END:VEVENT
BEGIN:VEVENT
DTSTART;TZID=America/New_York:20221206T120000
DTEND;TZID=America/New_York:20221206T130000
DTSTAMP:20260424T052115
CREATED:20220123T012723Z
LAST-MODIFIED:20221206T174742Z
UID:13684-1670328000-1670331600@www.rotarylebanonnh.org
SUMMARY:Administration Committee Meeting
DESCRIPTION:
URL:https://www.rotarylebanonnh.org/event/administration-committee-meeting-11/
END:VEVENT
BEGIN:VEVENT
DTSTART;TZID=America/New_York:20221208T120000
DTEND;TZID=America/New_York:20221208T131500
DTSTAMP:20260424T052115
CREATED:20220123T012724Z
LAST-MODIFIED:20221208T171648Z
UID:13685-1670500800-1670505300@www.rotarylebanonnh.org
SUMMARY:Rotary Club of Lebanon Club Meeting
DESCRIPTION:
URL:https://www.rotarylebanonnh.org/event/rotary-club-of-lebanon-club-meeting-46/
LOCATION:On Zoom
END:VEVENT
BEGIN:VEVENT
DTSTART;TZID=America/New_York:20221213T143000
DTEND;TZID=America/New_York:20221213T180000
DTSTAMP:20260424T052115
CREATED:20210722T221049Z
LAST-MODIFIED:20211114T010131Z
UID:5849-1670941800-1670954400@www.rotarylebanonnh.org
SUMMARY:Listen Community Dinners
DESCRIPTION:
URL:https://www.rotarylebanonnh.org/event/listen-community-dinners-17/
END:VEVENT
BEGIN:VEVENT
DTSTART;TZID=America/New_York:20221214T170000
DTEND;TZID=America/New_York:20221214T181500
DTSTAMP:20260424T052115
CREATED:20220123T012724Z
LAST-MODIFIED:20221211T110118Z
UID:13686-1671037200-1671041700@www.rotarylebanonnh.org
SUMMARY:Lebanon Rotary Board Meeting
DESCRIPTION:
URL:https://www.rotarylebanonnh.org/event/lebanon-rotary-board-meeting-11/
END:VEVENT
BEGIN:VEVENT
DTSTART;TZID=America/New_York:20221215T120000
DTEND;TZID=America/New_York:20221215T131500
DTSTAMP:20260424T052115
CREATED:20220123T012724Z
LAST-MODIFIED:20221215T173121Z
UID:13687-1671105600-1671110100@www.rotarylebanonnh.org
SUMMARY:Rotary Club of Lebanon Club Meeting
DESCRIPTION:
URL:https://www.rotarylebanonnh.org/event/rotary-club-of-lebanon-club-meeting-47/
LOCATION:On Zoom
END:VEVENT
BEGIN:VEVENT
DTSTART;TZID=America/New_York:20221222T120000
DTEND;TZID=America/New_York:20221222T131500
DTSTAMP:20260424T052115
CREATED:20220123T012724Z
LAST-MODIFIED:20221222T173232Z
UID:13688-1671710400-1671714900@www.rotarylebanonnh.org
SUMMARY:Rotary Club of Lebanon Club Meeting
DESCRIPTION:
URL:https://www.rotarylebanonnh.org/event/rotary-club-of-lebanon-club-meeting-48/
LOCATION:On Zoom
END:VEVENT
BEGIN:VEVENT
DTSTART;TZID=America/New_York:20221229T120000
DTEND;TZID=America/New_York:20221229T131500
DTSTAMP:20260424T052115
CREATED:20220123T012724Z
LAST-MODIFIED:20221229T173048Z
UID:13689-1672315200-1672319700@www.rotarylebanonnh.org
SUMMARY:Rotary Club of Lebanon Club Meeting
DESCRIPTION:
URL:https://www.rotarylebanonnh.org/event/rotary-club-of-lebanon-club-meeting-49/
LOCATION:On Zoom
END:VEVENT
END:VCALENDAR