BEGIN:VCALENDAR
VERSION:2.0
PRODID:-//Rotary Club of Lebanon, NH - ECPv6.15.17.1//NONSGML v1.0//EN
CALSCALE:GREGORIAN
METHOD:PUBLISH
X-ORIGINAL-URL:https://www.rotarylebanonnh.org
X-WR-CALDESC:Events for Rotary Club of Lebanon, NH
REFRESH-INTERVAL;VALUE=DURATION:PT1H
X-Robots-Tag:noindex
X-PUBLISHED-TTL:PT1H
BEGIN:VTIMEZONE
TZID:America/New_York
BEGIN:DAYLIGHT
TZOFFSETFROM:-0500
TZOFFSETTO:-0400
TZNAME:EDT
DTSTART:20210314T070000
END:DAYLIGHT
BEGIN:STANDARD
TZOFFSETFROM:-0400
TZOFFSETTO:-0500
TZNAME:EST
DTSTART:20211107T060000
END:STANDARD
BEGIN:DAYLIGHT
TZOFFSETFROM:-0500
TZOFFSETTO:-0400
TZNAME:EDT
DTSTART:20220313T070000
END:DAYLIGHT
BEGIN:STANDARD
TZOFFSETFROM:-0400
TZOFFSETTO:-0500
TZNAME:EST
DTSTART:20221106T060000
END:STANDARD
BEGIN:DAYLIGHT
TZOFFSETFROM:-0500
TZOFFSETTO:-0400
TZNAME:EDT
DTSTART:20230312T070000
END:DAYLIGHT
BEGIN:STANDARD
TZOFFSETFROM:-0400
TZOFFSETTO:-0500
TZNAME:EST
DTSTART:20231105T060000
END:STANDARD
END:VTIMEZONE
BEGIN:VEVENT
DTSTART;TZID=America/New_York:20221004T120000
DTEND;TZID=America/New_York:20221004T130000
DTSTAMP:20260424T094452
CREATED:20220123T012711Z
LAST-MODIFIED:20221004T164547Z
UID:13671-1664884800-1664888400@www.rotarylebanonnh.org
SUMMARY:Administration Committee Meeting
DESCRIPTION:
URL:https://www.rotarylebanonnh.org/event/administration-committee-meeting-9/
END:VEVENT
BEGIN:VEVENT
DTSTART;TZID=America/New_York:20221006T120000
DTEND;TZID=America/New_York:20221006T131500
DTSTAMP:20260424T094452
CREATED:20220123T012711Z
LAST-MODIFIED:20221006T164943Z
UID:13672-1665057600-1665062100@www.rotarylebanonnh.org
SUMMARY:Rotary Club of Lebanon Club Meeting
DESCRIPTION:
URL:https://www.rotarylebanonnh.org/event/rotary-club-of-lebanon-club-meeting-37/
LOCATION:On Zoom
END:VEVENT
BEGIN:VEVENT
DTSTART;TZID=America/New_York:20221011T143000
DTEND;TZID=America/New_York:20221011T180000
DTSTAMP:20260424T094452
CREATED:20210722T221048Z
LAST-MODIFIED:20211114T010131Z
UID:5847-1665498600-1665511200@www.rotarylebanonnh.org
SUMMARY:Listen Community Dinners
DESCRIPTION:
URL:https://www.rotarylebanonnh.org/event/listen-community-dinners-15/
END:VEVENT
BEGIN:VEVENT
DTSTART;TZID=America/New_York:20221012T170000
DTEND;TZID=America/New_York:20221012T181500
DTSTAMP:20260424T094452
CREATED:20220123T012711Z
LAST-MODIFIED:20221012T213416Z
UID:13673-1665594000-1665598500@www.rotarylebanonnh.org
SUMMARY:Lebanon Rotary Board Meeting
DESCRIPTION:
URL:https://www.rotarylebanonnh.org/event/lebanon-rotary-board-meeting-9/
END:VEVENT
BEGIN:VEVENT
DTSTART;TZID=America/New_York:20221013T120000
DTEND;TZID=America/New_York:20221013T131500
DTSTAMP:20260424T094452
CREATED:20220123T012711Z
LAST-MODIFIED:20221013T163117Z
UID:13674-1665662400-1665666900@www.rotarylebanonnh.org
SUMMARY:Rotary Club of Lebanon Club Meeting
DESCRIPTION:
URL:https://www.rotarylebanonnh.org/event/rotary-club-of-lebanon-club-meeting-38/
LOCATION:On Zoom
END:VEVENT
BEGIN:VEVENT
DTSTART;TZID=America/New_York:20221020T120000
DTEND;TZID=America/New_York:20221020T131500
DTSTAMP:20260424T094452
CREATED:20220123T012711Z
LAST-MODIFIED:20221020T164805Z
UID:13675-1666267200-1666271700@www.rotarylebanonnh.org
SUMMARY:Rotary Club of Lebanon Club Meeting
DESCRIPTION:
URL:https://www.rotarylebanonnh.org/event/rotary-club-of-lebanon-club-meeting-39/
LOCATION:On Zoom
END:VEVENT
BEGIN:VEVENT
DTSTART;TZID=America/New_York:20221027T120000
DTEND;TZID=America/New_York:20221027T131500
DTSTAMP:20260424T094452
CREATED:20220123T012711Z
LAST-MODIFIED:20221027T164956Z
UID:13676-1666872000-1666876500@www.rotarylebanonnh.org
SUMMARY:Rotary Club of Lebanon Club Meeting
DESCRIPTION:
URL:https://www.rotarylebanonnh.org/event/rotary-club-of-lebanon-club-meeting-40/
LOCATION:On Zoom
END:VEVENT
END:VCALENDAR