BEGIN:VCALENDAR
VERSION:2.0
PRODID:-//Rotary Club of Lebanon, NH - ECPv6.15.17.1//NONSGML v1.0//EN
CALSCALE:GREGORIAN
METHOD:PUBLISH
X-ORIGINAL-URL:https://www.rotarylebanonnh.org
X-WR-CALDESC:Events for Rotary Club of Lebanon, NH
REFRESH-INTERVAL;VALUE=DURATION:PT1H
X-Robots-Tag:noindex
X-PUBLISHED-TTL:PT1H
BEGIN:VTIMEZONE
TZID:America/New_York
BEGIN:DAYLIGHT
TZOFFSETFROM:-0500
TZOFFSETTO:-0400
TZNAME:EDT
DTSTART:20220313T070000
END:DAYLIGHT
BEGIN:STANDARD
TZOFFSETFROM:-0400
TZOFFSETTO:-0500
TZNAME:EST
DTSTART:20221106T060000
END:STANDARD
BEGIN:DAYLIGHT
TZOFFSETFROM:-0500
TZOFFSETTO:-0400
TZNAME:EDT
DTSTART:20230312T070000
END:DAYLIGHT
BEGIN:STANDARD
TZOFFSETFROM:-0400
TZOFFSETTO:-0500
TZNAME:EST
DTSTART:20231105T060000
END:STANDARD
BEGIN:DAYLIGHT
TZOFFSETFROM:-0500
TZOFFSETTO:-0400
TZNAME:EDT
DTSTART:20240310T070000
END:DAYLIGHT
BEGIN:STANDARD
TZOFFSETFROM:-0400
TZOFFSETTO:-0500
TZNAME:EST
DTSTART:20241103T060000
END:STANDARD
END:VTIMEZONE
BEGIN:VEVENT
DTSTART;TZID=America/New_York:20230601T114500
DTEND;TZID=America/New_York:20230601T134500
DTSTAMP:20260423T203540
CREATED:20230524T130121Z
LAST-MODIFIED:20230529T150046Z
UID:32065-1685619900-1685627100@www.rotarylebanonnh.org
SUMMARY:Rotary Club of Lebanon Weekly Meeting
DESCRIPTION:Agenda coming via ClubRunner\n-~-~-~-~-~-~-~-~-~-~-~-~-~-~-~-~-~-~-~-~-~-~-\nJOIN WEBEX MEETING\nhttps://marliynkbedell-110.my.webex.com/marliynkbedell-110.my/j.php?MTID=medb363d5c8bb2402e7355ccd9ffb43b4\nMeeting number (access code): 2631 188 0416\nMeeting password: 852m8EKGpeP (85268354 from phones and video systems)\nTAP TO JOIN FROM A MOBILE DEVICE (ATTENDEES ONLY)\n+1-650-479-3208\,\,26311880416#85268354# tel:%2B1-650-479-3208\,\,*01*26311880416%2385268354%23*01* United States Toll\nSome mobile devices may ask attendees to enter a numeric password.\nJOIN BY PHONE\n+1-650-479-3208 United States Toll\nGlobal call-in numbers\nhttps://marliynkbedell-110.my.webex.com/marliynkbedell-110.my/globalcallin.php?MTID=me20b4a5d4bb2a3a991505520c77a3fd4\nJOIN FROM A VIDEO SYSTEM OR APPLICATION\nDial sip:26311880416@webex.com\nYou can also dial 173.243.2.68 and enter your meeting number.\nIf you are a host\, click here and login site to view host information:\nhttps://marliynkbedell-110.my.webex.com/webappng/sites/marliynkbedell-110.my/meeting/info/a97a969b820e4b1f9fbc1dfcbc811d8b\nCan’t join the meeting? Contact support here:\nhttps://marliynkbedell-110.my.webex.com/marliynkbedell-110.my/mc\nIMPORTANT NOTICE: Please note that this Webex service allows audio and other information sent during the session to be recorded\, which may be discoverable in a legal matter. You should inform all meeting attendees prior to recording if you intend to record the meeting.
URL:https://www.rotarylebanonnh.org/event/rotary-club-of-lebanon-weekly-meeting-2/
LOCATION:https://marliynkbedell-110.my.webex.com/marliynkbedell-110.my/j.php?MTID=medb363d5c8bb2402e7355ccd9ffb43b4
ORGANIZER;CN="Cisco Webex":MAILTO:messenger@webex.com
END:VEVENT
BEGIN:VEVENT
DTSTART;TZID=America/New_York:20230601T120000
DTEND;TZID=America/New_York:20230601T131500
DTSTAMP:20260423T203540
CREATED:20220123T012811Z
LAST-MODIFIED:20230601T163131Z
UID:13721-1685620800-1685625300@www.rotarylebanonnh.org
SUMMARY:Rotary Club of Lebanon Club Meeting
DESCRIPTION:
URL:https://www.rotarylebanonnh.org/event/rotary-club-of-lebanon-club-meeting-71/
LOCATION:On Zoom
END:VEVENT
END:VCALENDAR