BEGIN:VCALENDAR
VERSION:2.0
PRODID:-//Rotary Club of Lebanon, NH - ECPv6.15.17.1//NONSGML v1.0//EN
CALSCALE:GREGORIAN
METHOD:PUBLISH
X-ORIGINAL-URL:https://www.rotarylebanonnh.org
X-WR-CALDESC:Events for Rotary Club of Lebanon, NH
REFRESH-INTERVAL;VALUE=DURATION:PT1H
X-Robots-Tag:noindex
X-PUBLISHED-TTL:PT1H
BEGIN:VTIMEZONE
TZID:America/New_York
BEGIN:DAYLIGHT
TZOFFSETFROM:-0500
TZOFFSETTO:-0400
TZNAME:EDT
DTSTART:20220313T070000
END:DAYLIGHT
BEGIN:STANDARD
TZOFFSETFROM:-0400
TZOFFSETTO:-0500
TZNAME:EST
DTSTART:20221106T060000
END:STANDARD
BEGIN:DAYLIGHT
TZOFFSETFROM:-0500
TZOFFSETTO:-0400
TZNAME:EDT
DTSTART:20230312T070000
END:DAYLIGHT
BEGIN:STANDARD
TZOFFSETFROM:-0400
TZOFFSETTO:-0500
TZNAME:EST
DTSTART:20231105T060000
END:STANDARD
BEGIN:DAYLIGHT
TZOFFSETFROM:-0500
TZOFFSETTO:-0400
TZNAME:EDT
DTSTART:20240310T070000
END:DAYLIGHT
BEGIN:STANDARD
TZOFFSETFROM:-0400
TZOFFSETTO:-0500
TZNAME:EST
DTSTART:20241103T060000
END:STANDARD
END:VTIMEZONE
BEGIN:VEVENT
DTSTART;TZID=America/New_York:20230518T120000
DTEND;TZID=America/New_York:20230518T131500
DTSTAMP:20260423T220635
CREATED:20220123T012800Z
LAST-MODIFIED:20230518T170044Z
UID:13719-1684411200-1684415700@www.rotarylebanonnh.org
SUMMARY:Rotary Club of Lebanon Club Meeting
DESCRIPTION:
URL:https://www.rotarylebanonnh.org/event/rotary-club-of-lebanon-club-meeting-69/
LOCATION:On Zoom
END:VEVENT
BEGIN:VEVENT
DTSTART;TZID=America/New_York:20230518T122000
DTEND;TZID=America/New_York:20230518T130000
DTSTAMP:20260423T220635
CREATED:20230516T233109Z
LAST-MODIFIED:20230518T161623Z
UID:31780-1684412400-1684414800@www.rotarylebanonnh.org
SUMMARY:Lebanon Rotary Meeting for May 18\, 2023 at 12:20 PM
DESCRIPTION:Sent by ClubRunner email\n-~-~-~-~-~-~-~-~-~-~-~-~-~-~-~-~-~-~-~-~-~-~-\nJOIN WEBEX MEETING\nhttps://meet293.webex.com/meet293/j.php?MTID=m7784afac89e3b84ba1aa0effb6f84e3a\nMeeting number (access code): 2632 352 4199\nMeeting password: mMyPWsTh332 (66979784 from video systems)\nJOIN BY PHONE\nUse VoIP only\nJOIN FROM A VIDEO SYSTEM OR APPLICATION\nDial sip:26323524199@meet293.webex.com\nYou can also dial 173.243.2.68 and enter your meeting number.\nIf you are a host\, click here and login site to view host information:\nhttps://meet293.webex.com/webappng/sites/meet293/meeting/info/3d3974ad2a5645c092821e8bd81bde8d\nCan’t join the meeting? Contact support here:\nhttps://meet293.webex.com/meet293/mc\nIMPORTANT NOTICE: Please note that this Webex service allows audio and other information sent during the session to be recorded\, which may be discoverable in a legal matter. You should inform all meeting attendees prior to recording if you intend to record the meeting.
URL:https://www.rotarylebanonnh.org/event/lebanon-rotary-meeting-for-may-18-2023-at-1220-pm/
LOCATION:https://meet293.webex.com/meet293/j.php?MTID=m7784afac89e3b84ba1aa0effb6f84e3a
ORGANIZER;CN="Cisco Webex":MAILTO:messenger@webex.com
END:VEVENT
END:VCALENDAR