BEGIN:VCALENDAR
VERSION:2.0
PRODID:-//Rotary Club of Lebanon, NH - ECPv6.15.17.1//NONSGML v1.0//EN
CALSCALE:GREGORIAN
METHOD:PUBLISH
X-WR-CALNAME:Rotary Club of Lebanon, NH
X-ORIGINAL-URL:https://www.rotarylebanonnh.org
X-WR-CALDESC:Events for Rotary Club of Lebanon, NH
REFRESH-INTERVAL;VALUE=DURATION:PT1H
X-Robots-Tag:noindex
X-PUBLISHED-TTL:PT1H
BEGIN:VTIMEZONE
TZID:America/New_York
BEGIN:DAYLIGHT
TZOFFSETFROM:-0500
TZOFFSETTO:-0400
TZNAME:EDT
DTSTART:20220313T070000
END:DAYLIGHT
BEGIN:STANDARD
TZOFFSETFROM:-0400
TZOFFSETTO:-0500
TZNAME:EST
DTSTART:20221106T060000
END:STANDARD
BEGIN:DAYLIGHT
TZOFFSETFROM:-0500
TZOFFSETTO:-0400
TZNAME:EDT
DTSTART:20230312T070000
END:DAYLIGHT
BEGIN:STANDARD
TZOFFSETFROM:-0400
TZOFFSETTO:-0500
TZNAME:EST
DTSTART:20231105T060000
END:STANDARD
BEGIN:DAYLIGHT
TZOFFSETFROM:-0500
TZOFFSETTO:-0400
TZNAME:EDT
DTSTART:20240310T070000
END:DAYLIGHT
BEGIN:STANDARD
TZOFFSETFROM:-0400
TZOFFSETTO:-0500
TZNAME:EST
DTSTART:20241103T060000
END:STANDARD
END:VTIMEZONE
BEGIN:VEVENT
DTSTART;TZID=America/New_York:20230413T002000
DTEND;TZID=America/New_York:20230413T010000
DTSTAMP:20260424T025954
CREATED:20230412T133052Z
LAST-MODIFIED:20230413T044643Z
UID:30380-1681345200-1681347600@www.rotarylebanonnh.org
SUMMARY:Lebanon Rotary Meeting for April 13\, 2023 at 12:20 PM
DESCRIPTION:Agenda will come via Club’s Web Page\n-~-~-~-~-~-~-~-~-~-~-~-~-~-~-~-~-~-~-~-~-~-~-\nJOIN WEBEX MEETING\nhttps://meet293.webex.com/meet293/j.php?MTID=m3523dbff56ab2462bddf81ba8326ac0b\nMeeting number (access code): 2633 573 9411\nMeeting password: H84Evu8nxqv (48438886 from video systems)\nJOIN BY PHONE\nUse VoIP only\nJOIN FROM A VIDEO SYSTEM OR APPLICATION\nDial sip:26335739411@meet293.webex.com\nYou can also dial 173.243.2.68 and enter your meeting number.\nIf you are a host\, click here and login site to view host information:\nhttps://meet293.webex.com/webappng/sites/meet293/meeting/info/cca91fab5b894350b5ee35d86ffcd5a0\nCan’t join the meeting? Contact support here:\nhttps://meet293.webex.com/meet293/mc\nIMPORTANT NOTICE: Please note that this Webex service allows audio and other information sent during the session to be recorded\, which may be discoverable in a legal matter. You should inform all meeting attendees prior to recording if you intend to record the meeting.
URL:https://www.rotarylebanonnh.org/event/lebanon-rotary-meeting-for-april-13-2023-at-1220-pm/
LOCATION:https://meet293.webex.com/meet293/j.php?MTID=m3523dbff56ab2462bddf81ba8326ac0b
ORGANIZER;CN="Cisco Webex":MAILTO:messenger@webex.com
END:VEVENT
BEGIN:VEVENT
DTSTART;TZID=America/New_York:20230413T120000
DTEND;TZID=America/New_York:20230413T131500
DTSTAMP:20260424T025954
CREATED:20220123T012759Z
LAST-MODIFIED:20230413T170223Z
UID:13712-1681387200-1681391700@www.rotarylebanonnh.org
SUMMARY:Rotary Club of Lebanon Club Meeting
DESCRIPTION:
URL:https://www.rotarylebanonnh.org/event/rotary-club-of-lebanon-club-meeting-64/
LOCATION:On Zoom
END:VEVENT
END:VCALENDAR